BEGIN:VCALENDAR
VERSION:2.0
PRODID:-//81.169.145.169//NONSGML kigkonsult.se iCalcreator 2.20//
CALSCALE:GREGORIAN
METHOD:PUBLISH
X-WR-TIMEZONE:Europe/Berlin
BEGIN:VEVENT
UID:event8340@Bogenschützen Feucht e.V.
DTSTAMP:20260421T122836Z
CATEGORIES:Private Veranstaltung
DESCRIPTION:Caritas Sommerfest\nKategorie: Private Veranstaltung\nICS-Link:
  https://bs-feucht.de/index.php?option=com_jem&view=event&id=8340:caritas-
 sommerfest\n
DTSTART;TZID=Europe/Berlin:20240720T090000
DTEND;TZID=Europe/Berlin:20240720T200000
LOCATION:Bogenplatz BS Feucht
SUMMARY:Caritas Sommerfest
URL:https://bs-feucht.de/index.php?option=com_jem&view=event&id=8340:carita
 s-sommerfest
END:VEVENT
END:VCALENDAR
