BEGIN:VCALENDAR
VERSION:2.0
PRODID:-//81.169.145.169//NONSGML kigkonsult.se iCalcreator 2.20//
CALSCALE:GREGORIAN
METHOD:PUBLISH
X-WR-TIMEZONE:Europe/Berlin
BEGIN:VEVENT
UID:event8312@Bogenschützen Feucht e.V.
DTSTAMP:20260421T125906Z
CATEGORIES:Feiertage-BY
DESCRIPTION:Heilige Drei Könige\nKategorie: Feiertage-BY\nICS-Link: https:/
 /bs-feucht.de/index.php?option=com_jem&view=event&id=8312:heilige-drei-koe
 nige\n
DTSTART;VALUE=DATE:20250106
DTEND;VALUE=DATE:20250107
LOCATION:BS Feucht\, Äußere Weißenseestraße 10\,90537 Feucht
SUMMARY:Heilige Drei Könige
URL:https://bs-feucht.de/index.php?option=com_jem&view=event&id=8312:heilig
 e-drei-koenige
END:VEVENT
END:VCALENDAR
