BEGIN:VCALENDAR
VERSION:2.0
PRODID:-//81.169.145.169//NONSGML kigkonsult.se iCalcreator 2.20//
CALSCALE:GREGORIAN
METHOD:PUBLISH
X-WR-TIMEZONE:Europe/Berlin
BEGIN:VEVENT
UID:event7948@Bogenschützen Feucht e.V.
DTSTAMP:20260421T123111Z
CATEGORIES:Private Veranstaltung
DESCRIPTION:Leibniz-Gymnasium\, Referendare\, Event\nKategorie: Private Ver
 anstaltung\nICS-Link: https://bs-feucht.de/index.php?option=com_jem&view=e
 vent&id=7948:leibniz-gymnasium-referendare-event\n
DTSTART;TZID=Europe/Berlin:20230926T130000
DTEND;TZID=Europe/Berlin:20230926T180000
LOCATION:BS Feucht\, Äußere Weißenseestraße 10\,90537 Feucht
SUMMARY:Leibniz-Gymnasium\, Referendare\, Event
URL:https://bs-feucht.de/index.php?option=com_jem&view=event&id=7948:leibni
 z-gymnasium-referendare-event
END:VEVENT
END:VCALENDAR
