BEGIN:VCALENDAR
VERSION:2.0
PRODID:-//81.169.145.169//NONSGML kigkonsult.se iCalcreator 2.20//
CALSCALE:GREGORIAN
METHOD:PUBLISH
X-WR-TIMEZONE:Europe/Berlin
BEGIN:VEVENT
UID:event7852@Bogenschützen Feucht e.V.
DTSTAMP:20260421T082105Z
CATEGORIES:Einsteigerkurs
DESCRIPTION:Einsteigerkurs 10/23\nKategorie: Einsteigerkurs\nICS-Link: http
 s://bs-feucht.de/index.php?option=com_jem&view=event&id=7852:einsteigerkur
 s-10-23\n
DTSTART;TZID=Europe/Berlin:20231006T163000
DTEND;TZID=Europe/Berlin:20231006T200000
LOCATION:Bogenhalle\, BS Feucht
SUMMARY:Einsteigerkurs 10/23
URL:https://bs-feucht.de/index.php?option=com_jem&view=event&id=7852:einste
 igerkurs-10-23
END:VEVENT
END:VCALENDAR
