BEGIN:VCALENDAR
VERSION:2.0
PRODID:-//81.169.145.169//NONSGML kigkonsult.se iCalcreator 2.20//
CALSCALE:GREGORIAN
METHOD:PUBLISH
X-WR-TIMEZONE:Europe/Berlin
BEGIN:VEVENT
UID:event6693@Bogenschützen Feucht e.V.
DTSTAMP:20260421T122254Z
CATEGORIES:Private Veranstaltung
DESCRIPTION:Blocker Baumüller\nKategorie: Private Veranstaltung\nICS-Link: 
 https://bs-feucht.de/index.php?option=com_jem&view=event&id=6693:blocker-b
 aumueller\n
DTSTART;TZID=Europe/Berlin:20220623T170000
DTEND;TZID=Europe/Berlin:20220623T220000
SUMMARY:Blocker Baumüller
URL:https://bs-feucht.de/index.php?option=com_jem&view=event&id=6693:blocke
 r-baumueller
END:VEVENT
END:VCALENDAR
