BEGIN:VCALENDAR
VERSION:2.0
PRODID:-//81.169.145.169//NONSGML kigkonsult.se iCalcreator 2.20//
CALSCALE:GREGORIAN
METHOD:PUBLISH
X-WR-TIMEZONE:Europe/Berlin
BEGIN:VEVENT
UID:event6654@Bogenschützen Feucht e.V.
DTSTAMP:20260421T130344Z
CATEGORIES:Feiertage-BY
DESCRIPTION:1. Weihnachtstag\nKategorie: Feiertage-BY\nICS-Link: https://bs
 -feucht.de/index.php?option=com_jem&view=event&id=6654:1-weihnachtstag\n
DTSTART;VALUE=DATE:20221225
DTEND;VALUE=DATE:20221226
SUMMARY:1. Weihnachtstag
URL:https://bs-feucht.de/index.php?option=com_jem&view=event&id=6654:1-weih
 nachtstag
END:VEVENT
END:VCALENDAR
