BEGIN:VCALENDAR
VERSION:2.0
PRODID:-//81.169.145.169//NONSGML kigkonsult.se iCalcreator 2.20//
CALSCALE:GREGORIAN
METHOD:PUBLISH
X-WR-TIMEZONE:Europe/Berlin
BEGIN:VEVENT
UID:event6354@Bogenschützen Feucht e.V.
DTSTAMP:20260423T091835Z
CATEGORIES:Meisterschaft
DESCRIPTION:ABGESAGT Gaumeisterschaft Halle\nKategorie: Meisterschaft\nICS-
 Link: https://bs-feucht.de/index.php?option=com_jem&view=event&id=6354:gau
 meisterschaft-halle\n
DTSTART;TZID=Europe/Berlin:20211030T090000
DTEND;TZID=Europe/Berlin:20211101T180000
LOCATION:Bogenhalle\, Äußere Weißenseestraße 10 \,90537 Feucht
SUMMARY:ABGESAGT Gaumeisterschaft Halle
URL:https://bs-feucht.de/index.php?option=com_jem&view=event&id=6354:gaumei
 sterschaft-halle
END:VEVENT
END:VCALENDAR
