BEGIN:VCALENDAR
VERSION:2.0
PRODID:-//81.169.145.169//NONSGML kigkonsult.se iCalcreator 2.20//
CALSCALE:GREGORIAN
METHOD:PUBLISH
X-WR-TIMEZONE:Europe/Berlin
BEGIN:VEVENT
UID:event2019@Bogenschützen Feucht e.V.
DTSTAMP:20260421T094825Z
CATEGORIES:Einsteigerkurs
DESCRIPTION:Einsteigerkurs\nKategorie: Einsteigerkurs\nICS-Link: https://bs
 -feucht.de/index.php?option=com_jem&view=event&id=2019:einsteigerkurs\n
DTSTART;TZID=Europe/Berlin:20200807T150000
DTEND;TZID=Europe/Berlin:20200807T200000
SUMMARY:Einsteigerkurs
URL:https://bs-feucht.de/index.php?option=com_jem&view=event&id=2019:einste
 igerkurs
END:VEVENT
END:VCALENDAR
