BEGIN:VCALENDAR
VERSION:2.0
PRODID:-//81.169.145.169//NONSGML kigkonsult.se iCalcreator 2.20//
CALSCALE:GREGORIAN
METHOD:PUBLISH
X-WR-TIMEZONE:Europe/Berlin
BEGIN:VEVENT
UID:event8065@Bogenschützen Feucht e.V.
DTSTAMP:20260424T143201Z
CATEGORIES:Private Veranstaltung
DESCRIPTION:Firmen-Weihnachtsfeier\nKategorie: Private Veranstaltung\nICS-L
 ink: https://bs-feucht.de/index.php?option=com_jem&view=event&id=8065:firm
 en-weihnachtsfeier\n
DTSTART;TZID=Europe/Berlin:20231117T180000
DTEND;TZID=Europe/Berlin:20231117T210000
LOCATION:Bogenhalle\, Äußere Weißenseestraße 10 \,90537 Feucht
SUMMARY:Firmen-Weihnachtsfeier
URL:https://bs-feucht.de/index.php?option=com_jem&view=event&id=8065:firmen
 -weihnachtsfeier
END:VEVENT
END:VCALENDAR
